BEGIN:VCALENDAR
VERSION:2.0
PRODID:icalendar-ruby
CALSCALE:GREGORIAN
METHOD:PUBLISH
BEGIN:VEVENT
DTSTAMP:20260423T113430Z
UID:12-236530@kcchurch.tithelysetup8.com
DTSTART:20261220T160000Z
DTEND:20261220T173000Z
CLASS:PUBLIC
CREATED:20260423T062748
DESCRIPTION:Join us in person or virtually every Sunday at 10:00AM!
LAST-MODIFIED:20260423T062748
LOCATION:10250 Quivira Rd\, Lenexa\, KS 66215
SUMMARY:Sunday Worship
URL;VALUE=URI:https://kcchurch.tithelysetup8.com/events/sunday-worship/2026
 -12-20
ATTACH;FILENAME=Screenshot-2023-11-03-at-1.55.16%E2%80%AFPM.png;FMTTYPE=ima
 ge/png:https://dq5pwpg1q8ru0.cloudfront.net/2023/11/14/09/23/21/916e89cf-6
 a2d-4c71-a0e2-c8a1328e94f2/Screenshot-2023-11-03-at-1.55.16%25E2%2580%25AF
 PM.png
END:VEVENT
END:VCALENDAR
